BEGIN:VCALENDAR
PRODID:NingEventWidget-v1
VERSION:2.0
METHOD:PUBLISH
BEGIN:VEVENT
UID:5021591:Event:1910
DTSTAMP:20260423T102112Z
SUMMARY:Saturday Fitness Ride from Mesa Ridge
DESCRIPTION:The ride is from 30 to 40 miles in the winter. A route she
 et is provided so you can ride at your pace. Be sure to bring an ID as
  we will sometimes ride through Fort Carson.\n\nFor more information v
 isit http://pikespeaksports.us/events/saturday-fitness-ride-from
DTSTART:20100403T160000Z
DTEND:20100403T200000Z
CATEGORIES:bike, ride
LOCATION:Safeway Parking Lot N. Side across from Sonic
WEBSITE:http://www.viethconsulting.com/Calendar/moreinfo.php?eventid=1
 0447
URL:http://www.viethconsulting.com/Calendar/moreinfo.php?eventid=10447
CONTACT:
ORGANIZER:Colorado Springs Cycling Club
ATTACH;FMTTYPE="image/jpeg":http://storage.ning.com/topology/rest/1.0/
 file/get/2842524102?profile=original
ATTENDEE;ROLE=REQ-PARTICIPANT;PARTSTAT=ACCEPTED;RSVP=TRUE;CN="Brian Mc
 Carrie":http://pikespeaksports.us/profile/virtualbrian
END:VEVENT
END:VCALENDAR
