BEGIN:VCALENDAR
PRODID:NingEventWidget-v1
VERSION:2.0
METHOD:PUBLISH
BEGIN:VEVENT
UID:5021591:Event:843221
DTSTAMP:20260422T125932Z
SUMMARY:Santa Sprint 5K
DESCRIPTION: The Santa Sprint 5k will offer runners, walkers, and wel
 l behaved dogs a beautiful course that winds through the Banning Lewis
  Ranch community located on the north east side of Colorado Springs. Y
 ou will be dazzled with some of the most spectacular views of Pikes Pe
 ak along the route. The race will kick off in the open field directly 
 to the south of the Banning Lewis Ranch Academy facility (7094 Cottonw
 ood Tree Drive). All racers will spread holiday cheer along Silver Bir
 ch Drive to Vista Del Pico and over to Dublin Blvd, looping back aroun
 d on our flat, paved course. This amazing course is sure to help you s
 et that new personal record.\n\nFor more information visit http://pike
 speaksports.us/events/santa-sprint-5k-1
DTSTART:20191214T170000Z
DTEND:20191214T210000Z
CATEGORIES:5k, fund, raiser
LOCATION:Banning Lewis Ranch Academy
WEBSITE:https://www.raceentry.com/the-banning-lewis-ranch-santa-sprint
 -/race-information
URL:https://www.raceentry.com/the-banning-lewis-ranch-santa-sprint-/ra
 ce-information
CONTACT:7193062330
ORGANIZER;CN=Pharis:http://pikespeaksports.us/profile/Pharis645
ATTACH;FMTTYPE="image/jpeg":https://storage.ning.com/topology/rest/1.0
 /file/get/3591952462?profile=original
ATTENDEE;ROLE=REQ-PARTICIPANT;PARTSTAT=ACCEPTED;RSVP=TRUE;CN=Pharis:ht
 tp://pikespeaksports.us/profile/Pharis645
END:VEVENT
END:VCALENDAR
