BEGIN:VCALENDAR
PRODID:NingEventWidget-v1
VERSION:2.0
METHOD:PUBLISH
BEGIN:VEVENT
UID:5021591:Event:7679
DTSTAMP:20260420T025037Z
SUMMARY:Sailin' Shoes Run for Fun
DESCRIPTION:This year will be the 31st Anniversary for the Annual Sail
 in Shoes Run For Fun, which starts the annual Colorado Springs Springs
 pree celebration, which will be located at Memorial Park. This event h
 as grown over the past 31 years and in addition to the running events,
  Springs Spree includes other sporting events, a wide variety of music
 al entertainment, food booths, artists' displays and children's activi
 ties throughout the day.\nClick here to register.\nWalk in registratio
 n at Runner's Roost, 121 N. Tejon St.\n\nFor more information visit ht
 tp://pikespeaksports.us/events/sailin-shoes-run-for-fun
DTSTART:20100619T130000Z
DTEND:20100619T160000Z
CATEGORIES:5k, and, 10k, run
LOCATION:Downtown Colorado Springs
WEBSITE:http://www.active.com/running/colorado-springs-co/sailin-shoes
 -run-for-fun-2010
URL:http://www.active.com/running/colorado-springs-co/sailin-shoes-run
 -for-fun-2010
CONTACT:
ORGANIZER;CN="Tim Bergsten":http://pikespeaksports.us/profile/TimBergs
 ten
ATTACH;FMTTYPE="image/jpeg":http://storage.ning.com/topology/rest/1.0/
 file/get/2842534904?profile=original
ATTENDEE;ROLE=REQ-PARTICIPANT;PARTSTAT=ACCEPTED;RSVP=TRUE;CN="Tim Berg
 sten":http://pikespeaksports.us/profile/TimBergsten
END:VEVENT
END:VCALENDAR
