BEGIN:VCALENDAR
PRODID:NingEventWidget-v1
VERSION:2.0
METHOD:PUBLISH
BEGIN:VEVENT
UID:5021591:Event:348
DTSTAMP:20260422T055215Z
SUMMARY:Run to the Shrine
DESCRIPTION:\nCheyenne Mountain Zoo invites world class runners and fa
 milies alike to join in the Run to the Shrine on Saturday, May 22, 201
 0. Both the 5K and the 10K options curve through the Zoo and some of t
 he most stunning mountain scenery this side of the Rockies. The races 
 conclude at the world class event venue, The Lodge at Moose Lake!\nPac
 ket pickup at The Colorado Running Company Friday\n5pm-7pm. But you ca
 n register at the store 9a-7p now.\nA great opportunity for competitiv
 e racers, casual walkers, as well as families and children eager to sh
 ow their enthusiasm for the Zoo, the Run to the Shrine offers the cove
 ted opportunity to traverse Shrine Road via foot while knowing that th
 is is the one time of the year when foot traffic is allowed.\nMore inf
 o here.\n\nFor more run information, contact Sean Anglum at 633-9925, 
 ext. 140 or sanglum@cmzoo.org.\nFor sponsorship information, contact J
 ean Gordon at 633-9925, ext. 114 or jgordon@cmzoo.org.\n\nFor more inf
 ormation visit http://pikespeaksports.us/events/run-to-the-shrine
DTSTART:20100522T130000Z
DTEND:20100522T180000Z
CATEGORIES:10k, run, and, 5k, "run/jog/walk"
LOCATION:Cheyenne Mountain Zoo, Colorado Springs
WEBSITE:http://www.cmzoo.org/guestInformation/events/runToTheShrine.as
 p
URL:http://www.cmzoo.org/guestInformation/events/runToTheShrine.asp
CONTACT:
ORGANIZER:Cheyenne Mountain Zoo
ATTACH;FMTTYPE="image/jpeg":http://storage.ning.com/topology/rest/1.0/
 file/get/2842533823?profile=original
ATTENDEE;ROLE=REQ-PARTICIPANT;PARTSTAT=ACCEPTED;RSVP=TRUE;CN="Katie Be
 nzel":http://pikespeaksports.us/profile/KatieSchwing
ATTENDEE;ROLE=REQ-PARTICIPANT;PARTSTAT=ACCEPTED;RSVP=TRUE;CN="Pikes Pe
 ak Sports":http://pikespeaksports.us/profile/PikesPeakSports
ATTENDEE;ROLE=REQ-PARTICIPANT;PARTSTAT=TENTATIVE;RSVP=TRUE;CN="Samanth
 a Rook":http://pikespeaksports.us/profile/SamanthaRook
END:VEVENT
END:VCALENDAR
