BEGIN:VCALENDAR
PRODID:NingEventWidget-v1
VERSION:2.0
METHOD:PUBLISH
BEGIN:VEVENT
UID:5021591:Event:843056
DTSTAMP:20260422T174613Z
SUMMARY:Run For The Red 5K
DESCRIPTION:The Fire Foundation of Colorado Springs is a nonprofit org
 anization dedicated to aiding the Colorado Springs Fire Department.Â Â
  https://www.firefoundationofcs.org/\n\nFor more information visit htt
 p://pikespeaksports.us/events/run-for-the-red-5k
DTSTART:20191110T160000Z
DTEND:20191110T190000Z
CATEGORIES:fund, raiser, "run/walk"
LOCATION:Legacy Loop Plaza
WEBSITE:https://www.runningguru.com/E1.asp?eID=63788
URL:https://www.runningguru.com/E1.asp?eID=63788
CONTACT:7193062330
ORGANIZER;CN=Pharis:http://pikespeaksports.us/profile/Pharis645
ATTACH;FMTTYPE="image/jpeg":https://storage.ning.com/topology/rest/1.0
 /file/get/3591944260?profile=original
ATTENDEE;ROLE=REQ-PARTICIPANT;PARTSTAT=ACCEPTED;RSVP=TRUE;CN=Pharis:ht
 tp://pikespeaksports.us/profile/Pharis645
END:VEVENT
END:VCALENDAR
