BEGIN:VCALENDAR
PRODID:NingEventWidget-v1
VERSION:2.0
METHOD:PUBLISH
BEGIN:VEVENT
UID:5021591:Event:25099
DTSTAMP:20260423T181450Z
SUMMARY:Run 4 Trails
DESCRIPTION:4-mile run or walk on the newly constructed community trai
 l loop in Pueblo West. The new trail is 8' wide pavement alongside 4' 
 wide soft crusher fine surface. Helps us raise awareness of the new tr
 ail and money for future improvements and extensions of the trail syst
 em to link our schools, parks and neighborhoods.\n\nOnline registratio
 n available at www.socorunners.org\nOnly $10 if 17 & under before Sept
  11th\n$20 for adults before Sept 11th\n\nFor more information visit h
 ttp://pikespeaksports.us/events/run-4-trails
DTSTART:20100918T140000Z
DTEND:20100918T160000Z
CATEGORIES:run, walk, fundraiser
LOCATION:Pueblo West High School
WEBSITE:http://www.socorunners.org
URL:http://www.socorunners.org
CONTACT:719-647-1230
ORGANIZER;CN="Kim Arline":http://pikespeaksports.us/profile/KimArline
ATTACH;FMTTYPE="image/jpeg":http://storage.ning.com/topology/rest/1.0/
 file/get/2842539069?profile=original
ATTENDEE;ROLE=REQ-PARTICIPANT;PARTSTAT=ACCEPTED;RSVP=TRUE;CN="Kim Arli
 ne":http://pikespeaksports.us/profile/KimArline
END:VEVENT
END:VCALENDAR
