BEGIN:VCALENDAR
PRODID:NingEventWidget-v1
VERSION:2.0
METHOD:PUBLISH
BEGIN:VEVENT
UID:5021591:Event:7662
DTSTAMP:20260420T024916Z
SUMMARY:Ruff! Life 5K Run/1K Walk
DESCRIPTION:This race is a fundraiser for National Mill Dog Rescue whi
 ch works to \"end the cruelty endured by mill dogs and to change the f
 ace of the commercial dog breeding industry by rescuing and helping mi
 ll dog survivors.\"\nDeadline to preregister is June 5. Those who prer
 egister will be given a T-shirt at check-in along with a raffle ticket
  for the chance to win a 26\" flatscreen TV. Additional tickets will b
 e available for purchase at a cost of $5.\nCheck in and on-site regist
 ration at 8 a.m. Race/walk begins at 9 a.m.\n\nFor more information vi
 sit http://pikespeaksports.us/events/ruff-life-5k-run1k-walk
DTSTART:20100612T150000Z
DTEND:20100612T180000Z
CATEGORIES:5k, run, 1k, walk
LOCATION:Prospect Lake, Memorial Park
WEBSITE:http://www.milldogrescue.org/
URL:http://www.milldogrescue.org/
CONTACT:
ORGANIZER;CN="Tim Bergsten":http://pikespeaksports.us/profile/TimBergs
 ten
ATTACH;FMTTYPE="image/jpeg":http://storage.ning.com/topology/rest/1.0/
 file/get/2842535092?profile=original
ATTENDEE;ROLE=REQ-PARTICIPANT;PARTSTAT=ACCEPTED;RSVP=TRUE;CN="Tim Berg
 sten":http://pikespeaksports.us/profile/TimBergsten
END:VEVENT
END:VCALENDAR
