BEGIN:VCALENDAR
PRODID:NingEventWidget-v1
VERSION:2.0
METHOD:PUBLISH
BEGIN:VEVENT
UID:5021591:Event:874912
DTSTAMP:20260422T100214Z
SUMMARY:4 th Annual Rosie Run
DESCRIPTION:This is a community event hosted by The National Associati
 on of Women in Construction (NAWIC) Pikes Peak Chapter 356 in partners
 hip with LYM Events. Bring the whole family out to walk, jog, run or r
 ide your bike in a COVID safe, outdoor environment. Professional timin
 g included for all run/walk participants (no bike timing). After the 5
 K stay and have even more fun with our live DJ and amazing Vendor Expo
 !\n\nFor more information visit http://pikespeaksports.us/events/rosie
 -run
DTSTART:20210605T150000Z
DTEND:20210605T180000Z
CATEGORIES:timed, 5k
LOCATION:Legacy Loop Plaza
WEBSITE:https://www.runningguru.com/E1.asp?eID=82448
URL:https://www.runningguru.com/E1.asp?eID=82448
CONTACT:17193062330
ORGANIZER;CN=Pharis:http://pikespeaksports.us/profile/Pharis645
ATTACH;FMTTYPE="image/jpeg":https://storage.ning.com/topology/rest/1.0
 /file/get/8914036479?profile=original
ATTENDEE;ROLE=REQ-PARTICIPANT;PARTSTAT=ACCEPTED;RSVP=TRUE;CN=Pharis:ht
 tp://pikespeaksports.us/profile/Pharis645
END:VEVENT
END:VCALENDAR
