BEGIN:VCALENDAR
PRODID:NingEventWidget-v1
VERSION:2.0
METHOD:PUBLISH
BEGIN:VEVENT
UID:5021591:Event:3220
DTSTAMP:20260420T074422Z
SUMMARY:Rocky Mtn Region High Performance Camp Ages 12-U23
DESCRIPTION:This is a camp planned and designed for athletes on the Hi
 gh Performance or Draft Legal track. Athletes will receive USAT Benchm
 ark Testing, learn and experience advanced draft legal skills and raci
 ng tactics, triathlon specific swim strategies and learn about nutriti
 on and race preparation for high performance athletes. Sessions for at
 hletes and parents include Understanding the USAT Olympic Pipeline, Nu
 trition for Junior Athletes and High Performance Planning.\nFee $125\n
 Athletes Ages 12 - U23\n\nRegistration info:\nhttp://www.wickedfastri.
 com/index.php/our-services/camps-a-clinics/wickedfast-camps\n\nContact
 s:\nMichelle Cox at 719-291-6540\nmichelle@wickedfastri.com\nAlan Ley 
 at 719-359-7071\nalan@wickedfastri.com\n\nFor more information visit h
 ttp://pikespeaksports.us/events/rocky-mtn-region-high
DTSTART:20100611T060000Z
DTEND:20100614T055900Z
CATEGORIES:camp, youth, triathlon
LOCATION:AFA and Monument
WEBSITE:
URL:
CONTACT:
ORGANIZER:Wicked Fast Triathlon Team
ATTACH;FMTTYPE="image/jpeg":http://storage.ning.com/topology/rest/1.0/
 file/get/2842530299?profile=original
ATTENDEE;ROLE=REQ-PARTICIPANT;PARTSTAT=ACCEPTED;RSVP=TRUE;CN="Nicole O
 dell":http://pikespeaksports.us/profile/NicoleDrummer
END:VEVENT
END:VCALENDAR
