BEGIN:VCALENDAR
PRODID:NingEventWidget-v1
VERSION:2.0
METHOD:PUBLISH
BEGIN:VEVENT
UID:5021591:Event:851
DTSTAMP:20260423T130027Z
SUMMARY:Rock Climbers of Colorado Springs Meetup Group
DESCRIPTION:Join RCCS at Red Rock Canyon for their inaugural climbing 
 event! Red Rock Canyon has routes from 5.5 to 5.12, definitely somethi
 ng for everyone. The climbing is mostly bolted slab on soft sandstone.
  For anyone who has any trepidation with this style of climbing this p
 lace is especially good for two reasons: you will become more comforta
 ble with slab technique and you will become more comfortable with soft
  sandstone, key to climbing in the Garden of the Gods. Plus it’s jus
 t plain fun!\n\nDon't for get to RSVP through their meetup page.\nhttp
 ://www.meetup.com/Rock-Climbers-of-Colorado-Springs\n\nFor more inform
 ation visit http://pikespeaksports.us/events/rock-climbers-of-colorado
DTSTART:20100403T060000Z
DTEND:20100404T055900Z
CATEGORIES:rock, climbing, meetup
LOCATION:Red Rock Canyon
WEBSITE:http://www.meetup.com/Rock-Climbers-of-Colorado-Springs/
URL:http://www.meetup.com/Rock-Climbers-of-Colorado-Springs/
CONTACT:
ORGANIZER:
ATTACH;FMTTYPE="image/jpeg":http://storage.ning.com/topology/rest/1.0/
 file/get/2842524487?profile=original
ATTENDEE;ROLE=REQ-PARTICIPANT;PARTSTAT=ACCEPTED;RSVP=TRUE;CN="Brian Mc
 Carrie":http://pikespeaksports.us/profile/virtualbrian
END:VEVENT
END:VCALENDAR
