BEGIN:VCALENDAR
PRODID:NingEventWidget-v1
VERSION:2.0
METHOD:PUBLISH
BEGIN:VEVENT
UID:5021591:Event:5657
DTSTAMP:20260422T102347Z
SUMMARY:Rock Climbers of Colorado Springs: Garden of the Gods
DESCRIPTION:This group has quickly grown to 86 climbers and has had 14
  climbing meetups in the last 2 months!\n\nThe Garden has a long histo
 ry of climbing; the routes are varied and exciting, both trad and spor
 t bolted on soft sandstone. Where we climb will be determined by the s
 kills representd in the group of rsvp's. We can top-rope on the Finger
  Face or Cowboy Boot Crack area, hit the harder routes of the Drug Wal
 l (north end of South Gateway Rock) or hit several of the park's class
 ic multi-pitch lines.\n\nFor more information visit http://pikespeaksp
 orts.us/events/rock-climbers-of-colorado-1
DTSTART:20100522T150000Z
DTEND:20100522T180000Z
CATEGORIES:"rock climbing", meetup
LOCATION:Garden of the Gods, Main parking lot
WEBSITE:http://www.meetup.com/Rock-Climbers-of-Colorado-Springs/
URL:http://www.meetup.com/Rock-Climbers-of-Colorado-Springs/
CONTACT:
ORGANIZER:
ATTACH;FMTTYPE="image/jpeg":http://storage.ning.com/topology/rest/1.0/
 file/get/2842533287?profile=original
ATTENDEE;ROLE=REQ-PARTICIPANT;PARTSTAT=ACCEPTED;RSVP=TRUE;CN="Brian Mc
 Carrie":http://pikespeaksports.us/profile/virtualbrian
END:VEVENT
END:VCALENDAR
