BEGIN:VCALENDAR
PRODID:NingEventWidget-v1
VERSION:2.0
METHOD:PUBLISH
BEGIN:VEVENT
UID:5021591:Event:5652
DTSTAMP:20260423T060714Z
SUMMARY:Riders with Disabilities Time Trial
DESCRIPTION:The first of two Development Cycling Camp for Riders with 
 Disabilities concludes Saturday, May 22 with an official Time Trial Ra
 ce on Saturday from 10:00am to 12:00pm on Markscheffel Rd in Colorado 
 Springs, CO.\n\nNineteen participating athletes including blind and vi
 sually impaired cyclists and their sighted pilots, who ride tandem bik
 es; cyclists with lower mobility impairments, who use hand cycles; cyc
 lists with cerebral palsy or head injury who use both standard bikes a
 nd amputee cyclists who ride either single bikes or hand cycles have b
 een attending the camp since Monday participating in twice per day par
 ticipating in skill drills, practicing safe riding techniques and comp
 eting in race simulations.\n\nFor more information visit http://pikesp
 eaksports.us/events/riders-with-disabilities-time-1
DTSTART:20100522T160000Z
DTEND:20100522T180000Z
CATEGORIES:"time trial", "bike race"
LOCATION:Markscheffel Rd.
WEBSITE:
URL:
CONTACT:
ORGANIZER:
ATTACH;FMTTYPE="image/jpeg":http://storage.ning.com/topology/rest/1.0/
 file/get/2842533234?profile=original
ATTENDEE;ROLE=REQ-PARTICIPANT;PARTSTAT=ACCEPTED;RSVP=TRUE;CN="Terry Mo
 ntgomery":http://pikespeaksports.us/profile/TerryMontgomery
ATTENDEE;ROLE=REQ-PARTICIPANT;PARTSTAT=ACCEPTED;RSVP=TRUE;CN="Brian Mc
 Carrie":http://pikespeaksports.us/profile/virtualbrian
END:VEVENT
END:VCALENDAR
