BEGIN:VCALENDAR
PRODID:NingEventWidget-v1
VERSION:2.0
METHOD:PUBLISH
BEGIN:VEVENT
UID:5021591:Event:5040
DTSTAMP:20260422T014959Z
SUMMARY:Ride of Silence Colorado Springs
DESCRIPTION:On Wednesday, May 19, cyclists from across Colorado Spring
 s will gather at Old Town Bike Shop, 426 S. Tejon, to ride in honor of
  those who have been killed or injured while cycling on public roadway
 s. The Ride of Silence begins at 6:30 p.m. The local ride will be part
  of a world-wide effort to raise awareness about bicycling safety and 
 the rights of cyclists to use our roads.\n\nFor more information visit
  http://pikespeaksports.us/events/ride-of-silence-colorado
DTSTART:20100520T003000Z
DTEND:20100520T023000Z
CATEGORIES:memorial, educational
LOCATION:Old Town Bike Shop
WEBSITE:http://www.rideofsilence.org/main.php - http://www.facebook.co
 m/event.php?eid=121278964562404
URL:http://www.rideofsilence.org/main.php - http://www.facebook.com/ev
 ent.php?eid=121278964562404
CONTACT:
ORGANIZER;CN=CODave:http://pikespeaksports.us/profile/CODave
ATTACH;FMTTYPE="image/jpeg":http://storage.ning.com/topology/rest/1.0/
 file/get/2842533553?profile=original
ATTENDEE;ROLE=REQ-PARTICIPANT;PARTSTAT=ACCEPTED;RSVP=TRUE;CN="Terry Mo
 ntgomery":http://pikespeaksports.us/profile/TerryMontgomery
ATTENDEE;ROLE=REQ-PARTICIPANT;PARTSTAT=ACCEPTED;RSVP=TRUE;CN="Nicole O
 dell":http://pikespeaksports.us/profile/NicoleDrummer
ATTENDEE;ROLE=REQ-PARTICIPANT;PARTSTAT=ACCEPTED;RSVP=TRUE;CN=CODave:ht
 tp://pikespeaksports.us/profile/CODave
END:VEVENT
END:VCALENDAR
