BEGIN:VCALENDAR
PRODID:NingEventWidget-v1
VERSION:2.0
METHOD:PUBLISH
BEGIN:VEVENT
UID:5021591:Event:31246
DTSTAMP:20260424T192015Z
SUMMARY:Reel Rock Film Tour 2010
DESCRIPTION:The 2010 Reel Rock film tour stops in Colorado Springs on 
 Thursday, Oct 14. Don't miss this collection of the year's best climbi
 ng and adventure films.\n\nVisit http://reelrocktour.com/films/ for de
 scriptions of the films and a trailer.\n\nTickets cost $10 for the com
 munity and $5 for students with any valid student ID. Tickets can be p
 urchased in advance at Mountain Chalet or at the door.\n\nFor more inf
 ormation visit http://pikespeaksports.us/events/reel-rock-film-tour-20
 10
DTSTART:20101015T010000Z
DTEND:20101015T040000Z
CATEGORIES:film, festival
LOCATION:Armstrong Hall on the Colorado College campus
WEBSITE:
URL:
CONTACT:
ORGANIZER;CN="Mountain Chalet":http://pikespeaksports.us/profile/Mount
 ainChalet
ATTACH;FMTTYPE="image/jpeg":http://storage.ning.com/topology/rest/1.0/
 file/get/2842539948?profile=original
ATTENDEE;ROLE=REQ-PARTICIPANT;PARTSTAT=ACCEPTED;RSVP=TRUE;CN="Mountain
  Chalet":http://pikespeaksports.us/profile/MountainChalet
END:VEVENT
END:VCALENDAR
