BEGIN:VCALENDAR
PRODID:NingEventWidget-v1
VERSION:2.0
METHOD:PUBLISH
BEGIN:VEVENT
UID:5021591:Event:5026
DTSTAMP:20260423T044535Z
SUMMARY:Reach Your Peak 4-mile Run/Walk
DESCRIPTION:Please join us at 8 a.m. on May 23rd for the second annual
  Junior League of Colorado Springs Reach Your Peak 4-Miler: a family-f
 riendly run, walk & stroll, to benefit CARE Fair and other community s
 ervice projects.\n\nLocation: Colorado College Track (Monument Valley 
 Trail-begins at mile marker located near intersection of Mesa Rd/Cache
  La Poudre)\n\nFees:\n\n•$25 in advance (through May 21st on active.
 com)\n•$30 on May 22nd at Colorado Running Company\n•$30 on race d
 ay (until 7:45 am)\nCourse Description: Race start is located on the M
 onument Valley Tail mile marker at the intersection of Mesa Road and C
 ache La Poudre Street. Runners will run 1.5 miles north on the Monumen
 t Valley Tail, loop around the park/ soccer field, run 1.5 miles south
  on the Monument Valley Tail towards the start, finishing on the Color
 ado College Tack/ Washburn Field.\nRegister on active.com\n\nFor more 
 information visit http://pikespeaksports.us/events/reach-your-peak-4mi
 le-runwalk-1
DTSTART:20100523T140000Z
DTEND:20100523T170000Z
CATEGORIES:4-mile, "run/walk"
LOCATION:Colorado College Track
WEBSITE:http://www.jlcoloradosprings.org/?nd=reachyourpeak4miler
URL:http://www.jlcoloradosprings.org/?nd=reachyourpeak4miler
CONTACT:
ORGANIZER;CN="Tim Bergsten":http://pikespeaksports.us/profile/TimBergs
 ten
ATTACH;FMTTYPE="image/jpeg":http://storage.ning.com/topology/rest/1.0/
 file/get/2842533700?profile=original
ATTENDEE;ROLE=REQ-PARTICIPANT;PARTSTAT=ACCEPTED;RSVP=TRUE;CN="Sonal Mo
 disette":http://pikespeaksports.us/profile/SonalModisette
ATTENDEE;ROLE=REQ-PARTICIPANT;PARTSTAT=ACCEPTED;RSVP=TRUE;CN="Tim Berg
 sten":http://pikespeaksports.us/profile/TimBergsten
END:VEVENT
END:VCALENDAR
