BEGIN:VCALENDAR
PRODID:NingEventWidget-v1
VERSION:2.0
METHOD:PUBLISH
BEGIN:VEVENT
UID:5021591:Event:5057
DTSTAMP:20260421T014538Z
SUMMARY:Race Day Clinic - Triathlon
DESCRIPTION:You have done the training, have the equipment, and have s
 igned up for the triathlon. Now what? Steve Vaughan will be offering a
  clinic to answer all your race day questions before you get to the ra
 ce. The clinic will be held at Bicycle Village on Saturday May 29th fr
 om 1 to 2:30PM. This clinic is free and open to the public. Call Steve
  at 719-531-7076 or email Steve@TriForMS. org for more information.\n\
 nFor more information visit http://pikespeaksports.us/events/race-day-
 clinic-triathlon
DTSTART:20100529T190000Z
DTEND:20100529T203000Z
CATEGORIES:triathlon, clinic
LOCATION:Bicycle Village
WEBSITE:http://www.bicyclevillage.com
URL:http://www.bicyclevillage.com
CONTACT:719-265-9346
ORGANIZER:Steve Vaughan, PPTC & BV
ATTACH;FMTTYPE="image/jpeg":http://storage.ning.com/topology/rest/1.0/
 file/get/2842533862?profile=original
ATTENDEE;ROLE=REQ-PARTICIPANT;PARTSTAT=ACCEPTED;RSVP=TRUE;CN="Nicole O
 dell":http://pikespeaksports.us/profile/NicoleDrummer
END:VEVENT
END:VCALENDAR
