BEGIN:VCALENDAR
PRODID:NingEventWidget-v1
VERSION:2.0
METHOD:PUBLISH
BEGIN:VEVENT
UID:5021591:Event:875704
DTSTAMP:20260422T083333Z
SUMMARY:Race Against Suicide
DESCRIPTION:The money you raise will help Suicide Prevention\nSuicide 
 is one of the leading causes of death in the state of Colorado. This s
 cary reality is something we can work together to change. Pikes Peak S
 uicide Prevention Partnership has been serving the Pikes Peak Region i
 n the name of suicide prevention since 1993. PPSPP provides free suici
 de resources and suicide support services to our community in efforts 
 to increase awareness, provide education and to connect individuals an
 d organizations to needed resources.\n#ItStartsWithMe\n\n\nFor more in
 formation visit http://pikespeaksports.us/events/race-against-suicide-
 3
DTSTART:20210919T150000Z
DTEND:20210919T180000Z
CATEGORIES:fund, raiser
LOCATION:El Pomar Sports Complex
WEBSITE:https://pikespeaksuicidepreventionpartnership.salsalabs.org/20
 21raceagainstsuicide/index.html?fbclid=IwAR1e_JPgm93wsE-oj3sMbtvUMPpn9
 Ie_zeGu6f_F3fDI5KeBdKZW7JqUFa4
URL:https://pikespeaksuicidepreventionpartnership.salsalabs.org/2021ra
 ceagainstsuicide/index.html?fbclid=IwAR1e_JPgm93wsE-oj3sMbtvUMPpn9Ie_z
 eGu6f_F3fDI5KeBdKZW7JqUFa4
CONTACT:17193062330
ORGANIZER;CN=Pharis:http://pikespeaksports.us/profile/Pharis645
ATTACH;FMTTYPE="image/jpeg":https://storage.ning.com/topology/rest/1.0
 /file/get/9307342071?profile=original
ATTENDEE;ROLE=REQ-PARTICIPANT;PARTSTAT=ACCEPTED;RSVP=TRUE;CN=Pharis:ht
 tp://pikespeaksports.us/profile/Pharis645
END:VEVENT
END:VCALENDAR
