BEGIN:VCALENDAR
PRODID:NingEventWidget-v1
VERSION:2.0
METHOD:PUBLISH
BEGIN:VEVENT
UID:5021591:Event:4621
DTSTAMP:20260423T192843Z
SUMMARY:Pro Cycling Colorado Senior Road Racing Championships
DESCRIPTION:A Tour of Colorado event, this is the biggest road race in
  Colorado of 2010!\n\nAn 8.9 mile course at the AFA with the S/F at Fa
 lcon Stadium.\n\nVisit www.tourofcolorado.com\n\nFor more information 
 visit http://pikespeaksports.us/events/pro-cycling-colorado-senior
DTSTART:20100815T060000Z
DTEND:20100816T055900Z
CATEGORIES:bicycle, road, race-tour, of, colorado
LOCATION:Air Force Academy-Falcon Stadium
WEBSITE:http://www.sandcreeksports.com
URL:http://www.sandcreeksports.com
CONTACT:719-651-1677
ORGANIZER;CN="Andy Bohlmann":http://pikespeaksports.us/profile/AndyBoh
 lmann
ATTACH;FMTTYPE="image/jpeg":http://storage.ning.com/topology/rest/1.0/
 file/get/2735377117?profile=original
ATTENDEE;ROLE=REQ-PARTICIPANT;PARTSTAT=ACCEPTED;RSVP=TRUE;CN="Terry Mo
 ntgomery":http://pikespeaksports.us/profile/TerryMontgomery
ATTENDEE;ROLE=REQ-PARTICIPANT;PARTSTAT=ACCEPTED;RSVP=TRUE;CN="Andy Boh
 lmann":http://pikespeaksports.us/profile/AndyBohlmann
END:VEVENT
END:VCALENDAR
