BEGIN:VCALENDAR
PRODID:NingEventWidget-v1
VERSION:2.0
METHOD:PUBLISH
BEGIN:VEVENT
UID:5021591:Event:25040
DTSTAMP:20260423T164108Z
SUMMARY:Post Leadville Social at COS Cruisers!
DESCRIPTION:Come on down to McCabe's this Tuesday for an extra special
  Cruisers night! We're welcoming all those who road Leadville 100 this
  last weekend to come down and have some R&R! Because hey, they've ear
 ned a beer!\n\nOther highlights:\n-$3 New Belgium Beers\n-$1 Tacos\n-\
 "The Heartless\" (Detroit Rock/Southside Chicago Blues) at 8\n-Ride at
  6pm for those who want to ride\n-McCabe's now has \"loaner locks\" fo
 r those who forgot theirs!\n-Cruiser Demo from Phat Cycles!\n\nPeople 
 roll in at 5pm or so. This is a very casual night for ALL levels of cy
 cling ability (even if you just bought one yesterday) and any bike wil
 l do.\n\nFor more information visit http://pikespeaksports.us/events/p
 ost-leadville-social-at-cos
DTSTART:20100817T230000Z
DTEND:20100818T050000Z
CATEGORIES:fun, social, for, cyclists, of, all, "levels/celebration"
LOCATION:McCabe's Tavern
WEBSITE:
URL:
CONTACT:
ORGANIZER;CN="Jon Severson":http://pikespeaksports.us/profile/JonSever
 son
ATTACH;FMTTYPE="image/jpeg":http://storage.ning.com/topology/rest/1.0/
 file/get/2842538692?profile=original
ATTENDEE;ROLE=REQ-PARTICIPANT;PARTSTAT=ACCEPTED;RSVP=TRUE;CN="Jon Seve
 rson":http://pikespeaksports.us/profile/JonSeverson
END:VEVENT
END:VCALENDAR
