BEGIN:VCALENDAR
PRODID:NingEventWidget-v1
VERSION:2.0
METHOD:PUBLISH
BEGIN:VEVENT
UID:5021591:Event:30907
DTSTAMP:20260423T234804Z
SUMMARY:Pony Express 15 mile trail run
DESCRIPTION:The course is on a single-track dirt trail that runs aroun
 d the perimeter of Rampart Reservoir. In some places, the trail is roc
 ky with exposed tree roots. The elevation is around 9,000 feet, with s
 ome rolling ups and downs. Runners proceed clockwise around the reserv
 oir, and will also run across the dam on the east end of the reservoir
 .\n\nFor more information visit http://pikespeaksports.us/events/pony-
 express-15-mile-trail-run
DTSTART:20100919T140000Z
DTEND:20100919T180000Z
CATEGORIES:"trail running race", race
LOCATION:Rampart Reservoir
WEBSITE:http://pprrun.org/events/PonyExpress/main.htm
URL:http://pprrun.org/events/PonyExpress/main.htm
CONTACT:
ORGANIZER:
ATTACH;FMTTYPE="image/jpeg":http://storage.ning.com/topology/rest/1.0/
 file/get/2842539375?profile=original
ATTENDEE;ROLE=REQ-PARTICIPANT;PARTSTAT=ACCEPTED;RSVP=TRUE;CN="steve pa
 yne":http://pikespeaksports.us/profile/stevepayne
ATTENDEE;ROLE=REQ-PARTICIPANT;PARTSTAT=ACCEPTED;RSVP=TRUE;CN="Brian Mc
 Carrie":http://pikespeaksports.us/profile/virtualbrian
END:VEVENT
END:VCALENDAR
