BEGIN:VCALENDAR
PRODID:NingEventWidget-v1
VERSION:2.0
METHOD:PUBLISH
BEGIN:VEVENT
UID:5021591:Event:29892
DTSTAMP:20260423T195318Z
SUMMARY:Pikes Peak Velo Super Cross
DESCRIPTION:Cyclocross racing at Bear Creek Park in Colorado Springs. 
 Course is approx. 1mile + loop with a mix of technical, power and spee
 d.\n\nFor more information email info@pikespeakvelo.comDownload the ev
 ent flyer: 2010 SuperCross Flyer rev2.pdf\n\nFor more information visi
 t http://pikespeaksports.us/events/pikes-peak-velo-super-cross
DTSTART:20100918T143000Z
DTEND:20100918T220000Z
CATEGORIES:cyclocross, race
LOCATION:Bear Creek Park
WEBSITE:http://www.pikespeakvelo.com
URL:http://www.pikespeakvelo.com
CONTACT:
ORGANIZER:Pikes Peak Velo
ATTACH;FMTTYPE="image/jpeg":http://storage.ning.com/topology/rest/1.0/
 file/get/2842539489?profile=original
ATTENDEE;ROLE=REQ-PARTICIPANT;PARTSTAT=ACCEPTED;RSVP=TRUE;CN="Kevin Le
 ague":http://pikespeaksports.us/profile/KevinLeague
ATTENDEE;ROLE=REQ-PARTICIPANT;PARTSTAT=ACCEPTED;RSVP=TRUE;CN="Jeremy R
 ickard":http://pikespeaksports.us/profile/JeremyRickard
ATTENDEE;ROLE=REQ-PARTICIPANT;PARTSTAT=ACCEPTED;RSVP=TRUE;CN="Brian Mc
 Carrie":http://pikespeaksports.us/profile/virtualbrian
END:VEVENT
END:VCALENDAR
