BEGIN:VCALENDAR
PRODID:NingEventWidget-v1
VERSION:2.0
METHOD:PUBLISH
BEGIN:VEVENT
UID:5021591:Event:30035
DTSTAMP:20260423T170354Z
SUMMARY:Pikes Peak Tri Club Membership Social
DESCRIPTION:Join the Pikes Peak Tri Club at Boulder Running Company fo
 r our September Membership social. Everyone is welcome to attend - cur
 rent members and prospective members.\n\nCheck out BRC's new expanded 
 store and have some refreshments with fun people with similar interest
 s.\n\nWe're working on getting some demonstrations that evening as wel
 l...stay tuned.\n\nFor more information visit http://pikespeaksports.u
 s/events/pikes-peak-tri-club-membership
DTSTART:20100917T000000Z
DTEND:20100917T020000Z
CATEGORIES:membership, social
LOCATION:Boulder Running Company
WEBSITE:http://www.brccoloradosprings.com/
URL:http://www.brccoloradosprings.com/
CONTACT:
ORGANIZER:Nicole Drummer/Pikes Peak Tri Club
ATTACH;FMTTYPE="image/jpeg":http://storage.ning.com/topology/rest/1.0/
 file/get/2842531770?profile=original
ATTENDEE;ROLE=REQ-PARTICIPANT;PARTSTAT=ACCEPTED;RSVP=TRUE;CN="Nicole O
 dell":http://pikespeaksports.us/profile/NicoleDrummer
END:VEVENT
END:VCALENDAR
