BEGIN:VCALENDAR
PRODID:NingEventWidget-v1
VERSION:2.0
METHOD:PUBLISH
BEGIN:VEVENT
UID:5021591:Event:2631
DTSTAMP:20260422T115200Z
SUMMARY:Pikes Peak Tri Club 10th Anniversary Celebration and Membershi
 p Social
DESCRIPTION:I'd like to invite you to join the Pikes Peak Triathlon Cl
 ub as it celebrates its 10th Anniversary! Come celebrate this wonderfu
 l milestone with your new and old triathlon friends at our April Membe
 rship Meeting/Social. Been around the club for a while? Come share you
 r stories! New to the club? Let's make new memories! Not a Pikes Peak 
 Tri Club member yet? Come anyway and join! PPTC will provide the food,
  and you'll be able to purchase the beverage of your choice.\n\nFor mo
 re information visit http://pikespeaksports.us/events/pikes-peak-tri-c
 lub-10th
DTSTART:20100416T000000Z
DTEND:20100416T020000Z
CATEGORIES:meeting, social
LOCATION:Trinity Brewing Co
WEBSITE:http://www.trinitybrew.com
URL:http://www.trinitybrew.com
CONTACT:
ORGANIZER:Nicole Drummer & Pikes Peak Triathlon Club
ATTACH;FMTTYPE="image/jpeg":http://storage.ning.com/topology/rest/1.0/
 file/get/2842531770?profile=original
ATTENDEE;ROLE=REQ-PARTICIPANT;PARTSTAT=ACCEPTED;RSVP=TRUE;CN="Nicole O
 dell":http://pikespeaksports.us/profile/NicoleDrummer
END:VEVENT
END:VCALENDAR
