BEGIN:VCALENDAR
PRODID:NingEventWidget-v1
VERSION:2.0
METHOD:PUBLISH
BEGIN:VEVENT
UID:5021591:Event:3422
DTSTAMP:20260421T150807Z
SUMMARY:Pikes Peak Road Runners Full-Moon Run
DESCRIPTION:Join the Pikes Peak Road Runners as they run under the moo
 nlight, 7 p.m. Tuesday, April 27, at Red Rock Canyon.\nGroups will be 
 formed to run various distances - usually 3 to 5 miles - and then stay
  after the run for a tailgate. Bring whatever you would like to share.
 \nA headlamp or flashlight may be needed depending on the time of year
  and length of the run.\nContact mickysim@yahoo.com for more informati
 on.\n\nFor more information visit http://pikespeaksports.us/events/pik
 es-peak-road-runners
DTSTART:20100428T010000Z
DTEND:20100428T030000Z
CATEGORIES:social, run
LOCATION:Red Rock Park
WEBSITE:http://pprrun.org/
URL:http://pprrun.org/
CONTACT:
ORGANIZER:Pikes Peak Road Runners
ATTACH;FMTTYPE="image/jpeg":http://storage.ning.com/topology/rest/1.0/
 file/get/2842532417?profile=original
ATTENDEE;ROLE=REQ-PARTICIPANT;PARTSTAT=ACCEPTED;RSVP=TRUE;CN="Pikes Pe
 ak Sports":http://pikespeaksports.us/profile/PikesPeakSports
END:VEVENT
END:VCALENDAR
