BEGIN:VCALENDAR
PRODID:NingEventWidget-v1
VERSION:2.0
METHOD:PUBLISH
BEGIN:VEVENT
UID:5021591:Event:9460
DTSTAMP:20260420T062304Z
SUMMARY:Phoenix Multisport Sober Social and Climbing
DESCRIPTION:Phoenix Multisport fosters a supportive, physically active
  community for individuals who are recovering from alcohol and substan
 ce abuse and those who choose to live a sober life. Through such pursu
 its as climbing, hiking, running, swimming, road and mountain biking, 
 and other activities, we seek to help our members develop and maintain
  the emotional strength they need to stay sober. Membership and all ev
 ents are free of charge. All we ask is that you have 48 hours of sobri
 ety prior to attending an event.\n\nThis is our first event for the Co
 lorado Springs chapter so come out and join us and learn more about wh
 at Phoenix Multisport is all about.\n\nFor more information visit http
 ://pikespeaksports.us/events/phoenix-multisport-sober
DTSTART:20100611T230000Z
DTEND:20100612T030000Z
CATEGORIES:sober, social, and, climbing
LOCATION:City Rock
WEBSITE:http://www.phoenixmultisport.org/events/event.php?event_id=177
 9&dt=2010-06-30
URL:http://www.phoenixmultisport.org/events/event.php?event_id=1779&dt
 =2010-06-30
CONTACT:303-888-4063
ORGANIZER;CN="Tad Thornton":http://pikespeaksports.us/profile/TadThorn
 ton
ATTACH;FMTTYPE="image/jpeg":http://storage.ning.com/topology/rest/1.0/
 file/get/2842535657?profile=original
ATTENDEE;ROLE=REQ-PARTICIPANT;PARTSTAT=ACCEPTED;RSVP=TRUE;CN="carley h
 yman":http://pikespeaksports.us/profile/carleyhyman
ATTENDEE;ROLE=REQ-PARTICIPANT;PARTSTAT=ACCEPTED;RSVP=TRUE;CN="Tad Thor
 nton":http://pikespeaksports.us/profile/TadThornton
ATTENDEE;ROLE=REQ-PARTICIPANT;PARTSTAT=TENTATIVE;RSVP=TRUE;CN="Jeff Sh
 elton":http://pikespeaksports.us/profile/JeffShelton
END:VEVENT
END:VCALENDAR
