BEGIN:VCALENDAR
PRODID:NingEventWidget-v1
VERSION:2.0
METHOD:PUBLISH
BEGIN:VEVENT
UID:5021591:Event:23765
DTSTAMP:20260423T212132Z
SUMMARY:Panerathon 5k and 10k to Stop Hunger
DESCRIPTION:WHAT: Join us for a 5K/10K run/walk presented by Panera Br
 ead with proceeds benefiting Care and Share. Everyone celebrates at th
 e finish line with fresh bagels, pastries, and sandwiches from Panera 
 Bread and fun for the whole family!\nWHEN: Saturday, August 14, 2010\n
 7:30am – FREE Kids Fun Run for aspiring marathoners 12 yrs & under\n
 8:00am – 5K and 10K begins\nWHERE: Panera Bread at University Villag
 e Shopping Center, 5230 N. Nevada Ave.\nREGISTRATION: Visit Active.com
  to register now! August 11 is the deadline for online entries.\nREGIS
 TRATION FEE: The 5K/10K fee includes chip timing, event t-shirt and co
 mplimentary lunch from Panera Bread and more!\n\nADULT: (18-59 yrs) $3
 0 Pre-Race, $35 Race Day\nMILITARY/YOUTH/SENIOR: (Under 18/60+ yrs), $
 20 Pre-Race, $30 Race Day\nTEAM OR COMPANY: (10 people or more), Regis
 ter 10 people or more for $15 per person Pre-Race or $25 per person on
  Race Day.\nContact us to learn more or register a team.\n\nQUESTIONS\
 nPlease email SpringsPanerathon@breadsoftheworld.com or call 303.799.1
 900 ext. 215\n\nFor more information visit http://pikespeaksports.us/e
 vents/panerathon-5k-and-10k-to-stop
DTSTART:20100814T140000Z
DTEND:20100814T170000Z
CATEGORIES:5k, adn, 10, k, fundraiser
LOCATION:Panera Bread at University Village Shopping Center, 5230 N. N
 evada Ave.
WEBSITE:http://www.panera-colorado.com/Panerathon6_08update/cosprings.
 html
URL:http://www.panera-colorado.com/Panerathon6_08update/cosprings.html
CONTACT:303.799.1900 ext. 215
ORGANIZER;CN="Tim Bergsten":http://pikespeaksports.us/profile/TimBergs
 ten
ATTACH;FMTTYPE="image/jpeg":http://storage.ning.com/topology/rest/1.0/
 file/get/2842538444?profile=original
ATTENDEE;ROLE=REQ-PARTICIPANT;PARTSTAT=ACCEPTED;RSVP=TRUE;CN="Terry Mo
 ntgomery":http://pikespeaksports.us/profile/TerryMontgomery
ATTENDEE;ROLE=REQ-PARTICIPANT;PARTSTAT=ACCEPTED;RSVP=TRUE;CN="Tim Berg
 sten":http://pikespeaksports.us/profile/TimBergsten
END:VEVENT
END:VCALENDAR
