BEGIN:VCALENDAR
PRODID:NingEventWidget-v1
VERSION:2.0
METHOD:PUBLISH
BEGIN:VEVENT
UID:5021591:Event:4110
DTSTAMP:20260422T072550Z
SUMMARY:Oyster Urban Adventure - Glenwood Springs
DESCRIPTION:Off Road has combined the thought-provoking strategy and c
 reative tasks of its sister race, the Oyster Racing Series, with the m
 uch-loved traditional disciplines of an adventure race. A condensed, m
 ilder version of an adventure race, the Oyster Off-Road challenges tea
 ms of two to push the limits in some of nature’s pristine playground
 s.\n\nFor more information visit http://pikespeaksports.us/events/oyst
 er-urban-adventure
DTSTART:20100522T150000Z
DTEND:20100522T200000Z
CATEGORIES:adventure, race
LOCATION:Two Rivers Park
WEBSITE:http://www.oysterracingseries.com/Oyster-Pages/Glenwood.aspx
URL:http://www.oysterracingseries.com/Oyster-Pages/Glenwood.aspx
CONTACT:
ORGANIZER:
ATTACH;FMTTYPE="image/jpeg":http://storage.ning.com/topology/rest/1.0/
 file/get/2842532825?profile=original
ATTENDEE;ROLE=REQ-PARTICIPANT;PARTSTAT=ACCEPTED;RSVP=TRUE;CN="Dieter S
 chnakenberg":http://pikespeaksports.us/profile/DieterSchnakenberg
END:VEVENT
END:VCALENDAR
