BEGIN:VCALENDAR
PRODID:NingEventWidget-v1
VERSION:2.0
METHOD:PUBLISH
BEGIN:VEVENT
UID:5021591:Event:891319
DTSTAMP:20260422T070205Z
SUMMARY:Not Too Early 4 Turkey
DESCRIPTION:\nJoin us as we step up to support Care and Share Food Ban
 k this Thanksgiving! Care and Share provides food, partnering opportun
 ities, and education to fight hunger and food insecurities in Southern
  Colorado communities.      \nPlease bring non-perishable food ite
 ms on race day and help fill the donation barrel. All food donations w
 ill be donated to Care and Share\n\nFor more information visit http://
 pikespeaksports.us/events/not-too-early-4-turkey
DTSTART:20231112T170000Z
DTEND:20231112T190000Z
CATEGORIES:5k, food, drive
LOCATION:1800 Recreation Way
WEBSITE:https://www.runningguru.com/E1.asp?eID=106157
URL:https://www.runningguru.com/E1.asp?eID=106157
CONTACT:17193062330
ORGANIZER;CN=Pharis:http://pikespeaksports.us/profile/Pharis645
ATTACH;FMTTYPE="image/jpeg":https://storage.ning.com/topology/rest/1.0
 /file/get/11808800875?profile=original
ATTENDEE;ROLE=REQ-PARTICIPANT;PARTSTAT=ACCEPTED;RSVP=TRUE;CN=Pharis:ht
 tp://pikespeaksports.us/profile/Pharis645
END:VEVENT
END:VCALENDAR
