BEGIN:VCALENDAR
PRODID:NingEventWidget-v1
VERSION:2.0
METHOD:PUBLISH
BEGIN:VEVENT
UID:5021591:Event:1623
DTSTAMP:20260423T182911Z
SUMMARY:North Colorado Springs Cyclists - Meetup Group
DESCRIPTION:Weekly Road Rides for all levels.\n\nNext ride is: West Si
 de Hills Got Legs?\n\nGreetings to all you regulars who love hills, pa
 in and suffering. This ride is called West Side Hills Got Legs?. How c
 an you pass up a 68 or 70 degree afternoon and not get back into ridin
 g the hills that we all know and love.…\n\nFor more information visi
 t http://pikespeaksports.us/events/north-colorado-springs
DTSTART:20100330T233000Z
DTEND:20100331T010000Z
CATEGORIES:group, road, ride
LOCATION:Trinity Brew Pub
WEBSITE:http://www.meetup.com/North-Colorado-Springs-Cyclists/
URL:http://www.meetup.com/North-Colorado-Springs-Cyclists/
CONTACT:
ORGANIZER:
ATTACH;FMTTYPE="image/jpeg":http://storage.ning.com/topology/rest/1.0/
 file/get/2842524102?profile=original
ATTENDEE;ROLE=REQ-PARTICIPANT;PARTSTAT=ACCEPTED;RSVP=TRUE;CN="Brian Mc
 Carrie":http://pikespeaksports.us/profile/virtualbrian
END:VEVENT
END:VCALENDAR
