BEGIN:VCALENDAR
PRODID:NingEventWidget-v1
VERSION:2.0
METHOD:PUBLISH
BEGIN:VEVENT
UID:5021591:Event:2345
DTSTAMP:20260422T132435Z
SUMMARY:North Colorado Springs Cyclists - AFA Gleneagle 35 mile road r
 ide
DESCRIPTION:If you have legs left from the Saturday Larkspur ride this
  will be just a mellow ride for those who want to just get in some mil
 es. I do not plan on going fast or doing anything very difficult. It's
  all about recovery. The ride will leave the S. Gate parking lot of th
 e AFA, loop through the Academy over Pine Drive, out N. Gate to Hwy 83
  Interquest and back through Gleneagle and the AFA. Easy stuff. Fun fo
 r all. All for fun.\n\nFor more information visit http://pikespeakspor
 ts.us/events/north-colorado-springs-3
DTSTART:20100411T170000Z
DTEND:20100411T200000Z
CATEGORIES:meet, up, group, -, road, ride
LOCATION:Air Force Academy South Entrance - dirt parking area.
WEBSITE:http://www.meetup.com/North-Colorado-Springs-Cyclists/calendar
 /13098197/?from=list&offset=0
URL:http://www.meetup.com/North-Colorado-Springs-Cyclists/calendar/130
 98197/?from=list&offset=0
CONTACT:
ORGANIZER:North Colorado Springs Cyclist
ATTACH;FMTTYPE="image/jpeg":http://storage.ning.com/topology/rest/1.0/
 file/get/2842524102?profile=original
ATTENDEE;ROLE=REQ-PARTICIPANT;PARTSTAT=ACCEPTED;RSVP=TRUE;CN="Brian Mc
 Carrie":http://pikespeaksports.us/profile/virtualbrian
END:VEVENT
END:VCALENDAR
