BEGIN:VCALENDAR
PRODID:NingEventWidget-v1
VERSION:2.0
METHOD:PUBLISH
BEGIN:VEVENT
UID:5021591:Event:2342
DTSTAMP:20260422T210434Z
SUMMARY:North Colorado Springs Cyclists - Ute Valley Trail Ride
DESCRIPTION:The terrain at Ute tends to be intermediate in nature. We 
 may do a counterclockwise loop then back in a clockwise direction. Of 
 course you can do just one loop if you so choose.\n\nOne loop is about
  5 or 6 miles if I recall.\n\nPlease be prepared with the appropriate 
 gear (tube, pump, 2 tire levers) and of course a helmet, water, gloves
 , etc.\n\nThe pace will be moderate with stops as needed.\n\nFor more 
 information visit http://pikespeaksports.us/events/north-colorado-spri
 ngs-2
DTSTART:20100410T170000Z
DTEND:20100410T190000Z
CATEGORIES:meet, up, group, -, mountain, bike, ride
LOCATION:Ute Valley Park
WEBSITE:http://www.meetup.com/North-Colorado-Springs-Cyclists/calendar
 /13099590/?a=_rt&rv=nr1p
URL:http://www.meetup.com/North-Colorado-Springs-Cyclists/calendar/130
 99590/?a=_rt&rv=nr1p
CONTACT:
ORGANIZER:North Colorado Springs Cyclist
ATTACH;FMTTYPE="image/jpeg":http://storage.ning.com/topology/rest/1.0/
 file/get/2842532996?profile=original
ATTENDEE;ROLE=REQ-PARTICIPANT;PARTSTAT=ACCEPTED;RSVP=TRUE;CN="Brian Mc
 Carrie":http://pikespeaksports.us/profile/virtualbrian
END:VEVENT
END:VCALENDAR
