BEGIN:VCALENDAR
PRODID:NingEventWidget-v1
VERSION:2.0
METHOD:PUBLISH
BEGIN:VEVENT
UID:5021591:Event:2339
DTSTAMP:20260423T000908Z
SUMMARY:North Colorado Springs Cyclists - Larkspur Country Club Road R
 ide 32 or 49 miles
DESCRIPTION:This ride will leave the Larkspur Community Park on Spruce
  Mtn Road (see directions below). We will roll through Bear Dance to T
 omah to hwy 105 and head south. From there I will introduce you to a n
 ew area by the Perry Park Country Club. Bring your legs and golf clubs
  for this part. We'll loop back around via Perry Park Blvd and folks c
 an stop at 32 miles if they choose to do so.\n\nFor more information v
 isit http://pikespeaksports.us/events/north-colorado-springs-1
DTSTART:20100410T170000Z
DTEND:20100410T200000Z
CATEGORIES:meet, up, group
LOCATION:Larkspur Community Park
WEBSITE:http://www.meetup.com/North-Colorado-Springs-Cyclists/calendar
 /13082292/
URL:http://www.meetup.com/North-Colorado-Springs-Cyclists/calendar/130
 82292/
CONTACT:
ORGANIZER:North Colorado Springs Cyclist
ATTACH;FMTTYPE="image/jpeg":http://storage.ning.com/topology/rest/1.0/
 file/get/2842524102?profile=original
ATTENDEE;ROLE=REQ-PARTICIPANT;PARTSTAT=ACCEPTED;RSVP=TRUE;CN="Brian Mc
 Carrie":http://pikespeaksports.us/profile/virtualbrian
END:VEVENT
END:VCALENDAR
