BEGIN:VCALENDAR
PRODID:NingEventWidget-v1
VERSION:2.0
METHOD:PUBLISH
BEGIN:VEVENT
UID:5021591:Event:1284
DTSTAMP:20260423T141612Z
SUMMARY:Nielson Challenge 1st Saturday of every month
DESCRIPTION:2 mile run on the 1st Saturday of every month at 8:00 am, 
 registration starts at 7:30.\n\nNorth Monument Valley Park, Colorado S
 prings, CO\n\nEntry Fee: FREE!\n\nThese races are based on a handicap 
 time that you establish on your first run. Awards are given based on t
 he most improved runner over their own handicap time. There is also a 
 year end award.\n\nFor more information visit http://pikespeaksports.u
 s/events/nielson-challenge-1st-saturday
DTSTART:20100403T133000Z
DTEND:20100403T150000Z
CATEGORIES:running, race
LOCATION:North Monument Valley Park, downtown, Colorado Springs
WEBSITE:http://pprrun.org/
URL:http://pprrun.org/
CONTACT:
ORGANIZER:
ATTACH;FMTTYPE="image/jpeg":http://storage.ning.com/topology/rest/1.0/
 file/get/2842523830?profile=original
ATTENDEE;ROLE=REQ-PARTICIPANT;PARTSTAT=ACCEPTED;RSVP=TRUE;CN="Brian Mc
 Carrie":http://pikespeaksports.us/profile/virtualbrian
END:VEVENT
END:VCALENDAR
