BEGIN:VCALENDAR
PRODID:NingEventWidget-v1
VERSION:2.0
METHOD:PUBLISH
BEGIN:VEVENT
UID:5021591:Event:2105
DTSTAMP:20260423T013804Z
SUMMARY:Muff's Running Club Run
DESCRIPTION:Fun group run beginning and ending at Meadow Muffins, 2432
  W. Colorado, in Old Colorado City. This groups is just getting starte
 d and needs your support. Course is 5K, mostly flat.\n\nFor more infor
 mation visit http://pikespeaksports.us/events/muffs-running-club-run
DTSTART:20100409T000000Z
DTEND:20100409T010000Z
CATEGORIES:social, run
LOCATION:Meadow Muffins, 2432 W. Colorado
WEBSITE:
URL:
CONTACT:633-0583
ORGANIZER:Meadow Muffins
ATTACH;FMTTYPE="image/jpeg":http://storage.ning.com/topology/rest/1.0/
 file/get/2735212434?profile=original
ATTENDEE;ROLE=REQ-PARTICIPANT;PARTSTAT=ACCEPTED;RSVP=TRUE;CN="Pikes Pe
 ak Sports":http://pikespeaksports.us/profile/PikesPeakSports
END:VEVENT
END:VCALENDAR
