BEGIN:VCALENDAR
PRODID:NingEventWidget-v1
VERSION:2.0
METHOD:PUBLISH
BEGIN:VEVENT
UID:5021591:Event:893917
DTSTAMP:20260422T070236Z
SUMMARY:Mt Carmel March for Herors
DESCRIPTION:March for Heroes\n30K Norwegian Ruck March\nYour participa
 tion will help support veterans and veterans' programs.\nMust finish
  the 30K Ruck March course within the allotted \nto be awarded the No
 rwegian Foot March Certificate\n\nFor more information visit http://pi
 kespeaksports.us/events/mt-carmel-march-for-herors
DTSTART:20240420T130000Z
DTEND:20240420T200000Z
CATEGORIES:5k, food, "drive/ruck"
LOCATION:Norris Penrose
WEBSITE:https://forms.donorsnap.com/form?id=23c782b1-300c-48fb-95a1-39
 1b052bfa67
URL:https://forms.donorsnap.com/form?id=23c782b1-300c-48fb-95a1-391b05
 2bfa67
CONTACT:7193062330
ORGANIZER;CN=Pharis:http://pikespeaksports.us/profile/Pharis645
ATTACH;FMTTYPE="image/jpeg":https://storage.ning.com/topology/rest/1.0
 /file/get/12415409875?profile=original
ATTENDEE;ROLE=REQ-PARTICIPANT;PARTSTAT=ACCEPTED;RSVP=TRUE;CN=Pharis:ht
 tp://pikespeaksports.us/profile/Pharis645
END:VEVENT
END:VCALENDAR
