BEGIN:VCALENDAR
PRODID:NingEventWidget-v1
VERSION:2.0
METHOD:PUBLISH
BEGIN:VEVENT
UID:5021591:Event:1232
DTSTAMP:20260423T215133Z
SUMMARY:Mountain Chalet Rental Equipment Sale
DESCRIPTION:Find great deals on used backcountry skis, snowshoes, and 
 a few other odds and ends from our rental department! Remember that th
 ese items usually go quickly—the early bird gets the gear.\n\nFor mo
 re information visit http://pikespeaksports.us/events/mountain-chalet-
 rental
DTSTART:20100327T160000Z
DTEND:20100328T010000Z
CATEGORIES:sale
LOCATION:Mountain Chalet
WEBSITE:http://www.mtnchalet.com/
URL:http://www.mtnchalet.com/
CONTACT:
ORGANIZER:
ATTACH;FMTTYPE="image/jpeg":
ATTENDEE;ROLE=REQ-PARTICIPANT;PARTSTAT=ACCEPTED;RSVP=TRUE;CN="Brian Mc
 Carrie":http://pikespeaksports.us/profile/virtualbrian
END:VEVENT
END:VCALENDAR
