BEGIN:VCALENDAR
PRODID:NingEventWidget-v1
VERSION:2.0
METHOD:PUBLISH
BEGIN:VEVENT
UID:5021591:Event:878288
DTSTAMP:20260422T083804Z
SUMMARY:Memorial Day Run & March 5k/10k/30k Ruck
DESCRIPTION:\r\nThe Memorial Day Run & March will be held RAIN OR SHI
 NE on Sunday (May 29th) before Memorial Day at UCHealth Park (formall
 y known as Security Service Field) at 4356 Tutt Blvd in Colorado Sprin
 gs. See above for the race day schedule.\n\nFor more information visit
  http://pikespeaksports.us/events/memorial-day-run-amp-march-5k-10k-30
 k-ruck
DTSTART:20220529T060000Z
DTEND:20220530T055900Z
CATEGORIES:ruck, run, "&amp", march
LOCATION:Rocky Mountain Vibes Stadium: UCHealth Park (formally Securit
 y Service Field)
WEBSITE:https://www.memorialdaymarch.com/
URL:https://www.memorialdaymarch.com/
CONTACT:17193062330
ORGANIZER;CN=Pharis:http://pikespeaksports.us/profile/Pharis645
ATTACH;FMTTYPE="image/jpeg":https://storage.ning.com/topology/rest/1.0
 /file/get/10259774692?profile=original
ATTENDEE;ROLE=REQ-PARTICIPANT;PARTSTAT=ACCEPTED;RSVP=TRUE;CN=Pharis:ht
 tp://pikespeaksports.us/profile/Pharis645
END:VEVENT
END:VCALENDAR
