BEGIN:VCALENDAR
PRODID:NingEventWidget-v1
VERSION:2.0
METHOD:PUBLISH
BEGIN:VEVENT
UID:5021591:Event:2801
DTSTAMP:20260421T134544Z
SUMMARY:Medicine Wheel Membership Meeting
DESCRIPTION:Mountain Bikers Unite!\nMedicine Wheel of the Pikes Peak R
 egion is a pro-active trail work and advocacy group dedicated to keepi
 ng trails open for all users. We are Mountain Cyclists working to impr
 ove the image of mountain biking to other trail users, emphasizing tra
 il etiquette and proper trail usage.\n\nMeet and enjoy food and bevera
 ges with other mountain bikers.\n\nFor more information visit http://p
 ikespeaksports.us/events/medicine-wheel-membership
DTSTART:20100430T003000Z
DTEND:20100430T033000Z
CATEGORIES:social, membership, meeting
LOCATION:Rasta Pasta, 405 N. Tejon St.
WEBSITE:http://www.medwheel.org/
URL:http://www.medwheel.org/
CONTACT:
ORGANIZER:
ATTACH;FMTTYPE="image/jpeg":http://storage.ning.com/topology/rest/1.0/
 file/get/2842526097?profile=original
ATTENDEE;ROLE=REQ-PARTICIPANT;PARTSTAT=ACCEPTED;RSVP=TRUE;CN="Brian Mc
 Carrie":http://pikespeaksports.us/profile/virtualbrian
END:VEVENT
END:VCALENDAR
