BEGIN:VCALENDAR
PRODID:NingEventWidget-v1
VERSION:2.0
METHOD:PUBLISH
BEGIN:VEVENT
UID:5021591:Event:3522
DTSTAMP:20260421T110119Z
SUMMARY:May the circle be unbroken: Kickoff 2010 with Medicine Wheel m
 embership meeting/party
DESCRIPTION:If you have ever ridden a lick of our amazing single track
 , stop by Medicine Wheel's 2010 membership meeting/party. Tell these t
 rail advocates thanks and offer your help in building and maintaining 
 trails this year. There will be plenty of food and beverages (read...b
 eer), plus some great company to hang out with.\nAbout the group: Medi
 cine Wheel is a pro-active trail work and advocacy group dedicated to 
 keeping trails open for all users. We are mountain cyclists working to
  improve the image of mountain biking to other trail users, emphasizin
 g trail etiquette and proper trail usage.\nThis is the agenda for the 
 evening:\n• 2010 trail building with a slide show of work done in 20
 09 and before\n• Medicine Wheel sponsored VOC Crew Leader Training i
 n May 2010\n• Trail maintenance in Palmer Park, Cheyenne Mtn SP, Red
  Rocks Park and Ute Valley Park\n• Reroute of a section of Captain J
 ack’s Trail, in cooperation with local OHV club\n• Expansion of th
 e freeride terrain features at Red Rocks Park\n• CS Medicine Wheel N
 ational Mountain Bike Patrol Group discussion\n• Lots of other local
  mountain biking topics\n\nFor more information visit http://pikespeak
 sports.us/events/may-the-circle-be-unbroken
DTSTART:20100430T003000Z
DTEND:20100430T033000Z
CATEGORIES:membership, meeting
LOCATION:Rasta Pasta
WEBSITE:http://medwheel.org/
URL:http://medwheel.org/
CONTACT:
ORGANIZER:Medicine Wheel
ATTACH;FMTTYPE="image/jpeg":http://storage.ning.com/topology/rest/1.0/
 file/get/2842532379?profile=original
ATTENDEE;ROLE=REQ-PARTICIPANT;PARTSTAT=ACCEPTED;RSVP=TRUE;CN="Tim Berg
 sten":http://pikespeaksports.us/profile/TimBergsten
END:VEVENT
END:VCALENDAR
