BEGIN:VCALENDAR
PRODID:NingEventWidget-v1
VERSION:2.0
METHOD:PUBLISH
BEGIN:VEVENT
UID:5021591:Event:4084
DTSTAMP:20260422T030244Z
SUMMARY:May Membership Social
DESCRIPTION:May Membership Social! Come and learn about what the Pikes
  Peak Triathlon Club is all about. There will be food and fun for all 
 interested in learning about the club. You can join the club (only $25
  for an annual membership!) or renew your membership there.\n\nFor mor
 e information visit http://pikespeaksports.us/events/may-membership-so
 cial
DTSTART:20100521T000000Z
DTEND:20100521T020000Z
CATEGORIES:social
LOCATION:Southside Johnny's
WEBSITE:http://www.southsidejohnnys.biz
URL:http://www.southsidejohnnys.biz
CONTACT:
ORGANIZER:Nicole Drummer - Pikes Peak Triathlon Club
ATTACH;FMTTYPE="image/jpeg":http://storage.ning.com/topology/rest/1.0/
 file/get/2842531770?profile=original
ATTENDEE;ROLE=REQ-PARTICIPANT;PARTSTAT=ACCEPTED;RSVP=TRUE;CN="Brian Mc
 Carrie":http://pikespeaksports.us/profile/virtualbrian
ATTENDEE;ROLE=REQ-PARTICIPANT;PARTSTAT=ACCEPTED;RSVP=TRUE;CN="Nicole O
 dell":http://pikespeaksports.us/profile/NicoleDrummer
END:VEVENT
END:VCALENDAR
