BEGIN:VCALENDAR
PRODID:NingEventWidget-v1
VERSION:2.0
METHOD:PUBLISH
BEGIN:VEVENT
UID:5021591:Event:24683
DTSTAMP:20260423T141707Z
SUMMARY:Mark Twain River Trail Jaunt
DESCRIPTION:Mark Twain River Trail Jaunt\nSeptember 11, 2010\nFLMBC an
 d the Friends of the Chemung River Watershed will\nbe hosting a fund r
 aising ride entitled \"The Mark Twain River\nTrail Jaunt\" on Septembe
 r 11th, 2010 along the Chemung\nRiver trails. This will be an educatio
 nal fun ride benefiting\nLIVESTRONG and the Falck Cancer Center. Cycli
 st will come\nupon characters along the trails informing them of the r
 iver's\nhistory. Mark Twain himself will be reciting his unpublished\n
 story \"Taming the Bicycle\"! LIVESTRONG and the Falck\nCancer Center 
 information will be available at the ride. Pledge\nsheets will be avai
 lable at various locations and on our\nwebsite in the near future. For
  more information call\n607-733-6798 or email flmbc@yahoo.com.\nLet's 
 make this an annual event by showing up and\nsupporting the cause!\n\n
 For more information visit http://pikespeaksports.us/events/mark-twain
 -river-trail-jaunt
DTSTART:20100911T150000Z
DTEND:20100911T180000Z
CATEGORIES:fundraiser
LOCATION:Chemung River Trails @ Grove Street Boat Launch, Elmira, NY
WEBSITE:http://www.fingerlakesmountainbikeclub.com
URL:http://www.fingerlakesmountainbikeclub.com
CONTACT:607+733-6798
ORGANIZER;CN="Finger Lakes Mountain Bike Club":http://pikespeaksports.
 us/profile/FingerLakesMountainBikeClub
ATTACH;FMTTYPE="image/jpeg":http://storage.ning.com/topology/rest/1.0/
 file/get/2842538479?profile=original
ATTENDEE;ROLE=REQ-PARTICIPANT;PARTSTAT=ACCEPTED;RSVP=TRUE;CN="Finger L
 akes Mountain Bike Club":http://pikespeaksports.us/profile/FingerLakes
 MountainBikeClub
END:VEVENT
END:VCALENDAR
