BEGIN:VCALENDAR
PRODID:NingEventWidget-v1
VERSION:2.0
METHOD:PUBLISH
BEGIN:VEVENT
UID:5021591:Event:3567
DTSTAMP:20260421T080633Z
SUMMARY:Kokopelli Kids
DESCRIPTION:The Kokopelli Kids Trail Running Series is designed to int
 roduce children pre-school through 8th grade to the sport of trail run
 ning in a fun, challenging and rewarding environment. Kids will learn 
 how to run the on trails, they will learn to pace themselves and they 
 will learn that running can be fun and rewarding. Running is no longer
  a form of punishment! The Series will kick off with a clinic hosted b
 y 1985 Boston Marathon Champion - Lisa Rainsberger who will go over tr
 aining tips, nutritional ideas, how to pace yourself and she will go o
 ver the importance of quality running shoes. The Kick Off will take pl
 ace at the Boulder Running Company Wednesday, April 28th 6:00 pm. Disc
 ounts on running shoes and equipment will be offered, we will go over 
 the details of the Series and kids will be encouraged to ask questions
 ! This clinic is optional. Parents and/or kids who register for the ra
 ce and who purchase running shoes at Boulder Running Company on April 
 28th will receive a $5.00 discount off the Series cost.\n\n\nEvent Dat
 es and Times\nWednesday April 28th - 6:00 pm - Pre-Race Clinic and Reg
 istration at Boulder Running Company (Located at 3659 Austin Bluffs Pa
 rkway, #278-35350)\nFriday April 30th 5:30 pm - Trail Running Race (Be
 ar Creek Park - located just east of the public gardens)\nFriday May 7
 th 5:30 pm - Trail Running Race (Bear Creek Park)\nFriday May 14th 5:3
 0 pm - Trail Running Race (Bear Creek Park)\n\nAge Groups / Race Dista
 nces / Awards\nPre-school: .50 mile trail run - Boys/Girls 1st-3rd (*n
 ew distance)\nKindergarten: .50 mile trail run - Boys/Girls 1st-3rd (*
 new distance)\n1st & 2nd Grade: .50 mile trail run - Boys/Girls 1st-3r
 d\n3rd & 4th Grade: 1.25 mile trail run - Boys/Girls 1st-3rd\n5th & 6t
 h Grade: 1.65 mile trail run - Boys/Girls 1st-3rd\n7th & 8th Grade: 1.
 65 mile trail run - Boys/Girls 1st-3rd\n\nFor more information visit h
 ttp://pikespeaksports.us/events/kokopelli-kids
DTSTART:20100430T233000Z
DTEND:20100501T010000Z
CATEGORIES:kokopelli, kids, trail, running, series
LOCATION:Bear Creek Park East
WEBSITE:http://www.kokopellikids.com/index.html
URL:http://www.kokopellikids.com/index.html
CONTACT:(719)-337-2737
ORGANIZER:Lisa Rainsberger
ATTACH;FMTTYPE="image/jpeg":http://storage.ning.com/topology/rest/1.0/
 file/get/2842532496?profile=original
ATTENDEE;ROLE=REQ-PARTICIPANT;PARTSTAT=ACCEPTED;RSVP=TRUE;CN="Christi 
 Keiser":http://pikespeaksports.us/profile/ChristiKeiser
END:VEVENT
END:VCALENDAR
