BEGIN:VCALENDAR
PRODID:NingEventWidget-v1
VERSION:2.0
METHOD:PUBLISH
BEGIN:VEVENT
UID:5021591:Event:5516
DTSTAMP:20260420T041413Z
SUMMARY:Kids on Bikes Free Fun Rides
DESCRIPTION:When:\n\nSaturday, June 19\n\nRegistration at 12:30 pm wit
 h Ride Start at 1:00 pm sharp\n\nWhere:\n\nBear Creek Park\n\nWho:\n\n
 Kids of all ability levels are invited to participate and will receive
  a medal for finishing the ride. Kids must bring their own bike and he
 lmets are required to participate. Parents are welcome to ride along w
 ith small children.\n\nWhat:\n\nKids on Bikes has the opportunity to p
 artner with the CTS Summer of Cycling Series and Sand Creek Sports to 
 host kids fun mountain bike rides. The ride will be led by race volunt
 eers through the Bear Creek Park Race track on a 2 mile easy course.\n
 \nCost:\n\nThe event is FREE and requires a parent signature on a rele
 ase for the event.\n\nFor more information visit http://pikespeaksport
 s.us/events/kids-on-bikes-free-fun-rides
DTSTART:20100619T183000Z
DTEND:20100619T193000Z
CATEGORIES:kids, free, fun, ride
LOCATION:Bear Creek Park
WEBSITE:http://www.kidsonbikes.net
URL:http://www.kidsonbikes.net
CONTACT:719-355-3573
ORGANIZER;CN="Kids on Bikes":http://pikespeaksports.us/profile/KidsonB
 ikes
ATTACH;FMTTYPE="image/jpeg":http://storage.ning.com/topology/rest/1.0/
 file/get/2842534353?profile=original
ATTENDEE;ROLE=REQ-PARTICIPANT;PARTSTAT=ACCEPTED;RSVP=TRUE;CN="Kids on 
 Bikes":http://pikespeaksports.us/profile/KidsonBikes
END:VEVENT
END:VCALENDAR
