BEGIN:VCALENDAR
PRODID:NingEventWidget-v1
VERSION:2.0
METHOD:PUBLISH
BEGIN:VEVENT
UID:5021591:Event:874265
DTSTAMP:20260422T112808Z
SUMMARY:Juneteenth 5k
DESCRIPTION:\nJoin in our Timed 5K Walk/Run as we celebrate Juneteenth
 . This three-day event will be a celebration for people of all races, 
 nationalities and religions joining together as one body to truthfully
  acknowledge a period in our history that shaped and continues to infl
 uence our society today.\nCome out for the race, stay for all the acti
 vities through out the day.\nFor more information visit our Face Book 
 page. https://www.facebook.com/ColoradoSpringsJuneteenthFestival/\n\n
 \nFor more information visit http://pikespeaksports.us/events/juneteen
 th-5k
DTSTART:20210619T150000Z
DTEND:20210620T000000Z
CATEGORIES:timed, 5k
LOCATION:America the Beautiful Park
WEBSITE:https://www.runningguru.com/E1.asp?eID=83110
URL:https://www.runningguru.com/E1.asp?eID=83110
CONTACT:17193062330
ORGANIZER;CN=Pharis:http://pikespeaksports.us/profile/Pharis645
ATTACH;FMTTYPE="image/jpeg":https://storage.ning.com/topology/rest/1.0
 /file/get/8808127286?profile=original
ATTENDEE;ROLE=REQ-PARTICIPANT;PARTSTAT=ACCEPTED;RSVP=TRUE;CN=Pharis:ht
 tp://pikespeaksports.us/profile/Pharis645
END:VEVENT
END:VCALENDAR
