BEGIN:VCALENDAR
PRODID:NingEventWidget-v1
VERSION:2.0
METHOD:PUBLISH
BEGIN:VEVENT
UID:5021591:Event:1917
DTSTAMP:20260423T100937Z
SUMMARY:Jellybean Ride
DESCRIPTION:The Easter Jellybean (Sunday Social) ride is an approximat
 ely 15 mile tour of our fine city at a pace that allows riders to talk
  and enjoy the view and company.\n\nFor more information visit http://
 pikespeaksports.us/events/jellybean-ride
DTSTART:20100404T190000Z
DTEND:20100404T213000Z
CATEGORIES:bike, ride
LOCATION:Acacia Park in Downtown Colorado Springs
WEBSITE:http://www.viethconsulting.com/Calendar/moreinfo.php?eventid=1
 0375
URL:http://www.viethconsulting.com/Calendar/moreinfo.php?eventid=10375
CONTACT:
ORGANIZER:Colorado Springs Cycling Club
ATTACH;FMTTYPE="image/jpeg":http://storage.ning.com/topology/rest/1.0/
 file/get/2842524102?profile=original
ATTENDEE;ROLE=REQ-PARTICIPANT;PARTSTAT=ACCEPTED;RSVP=TRUE;CN="Brian Mc
 Carrie":http://pikespeaksports.us/profile/virtualbrian
END:VEVENT
END:VCALENDAR
