BEGIN:VCALENDAR
PRODID:NingEventWidget-v1
VERSION:2.0
METHOD:PUBLISH
BEGIN:VEVENT
UID:5021591:Event:51
DTSTAMP:20260424T163414Z
SUMMARY:Jack Quinn's Running Club
DESCRIPTION:Tuesday evening runs every Tuesday at Jack Quinn's downtow
 n. Runners start showing up at about 5:30pm or 6:00pm.\n\nFor more inf
 ormation visit http://pikespeaksports.us/events/jack-quinns-running-cl
 ub
DTSTART:20100210T010000Z
DTEND:20100210T021500Z
CATEGORIES:running, club
LOCATION:Jack Quinn's downtown on Tejon between Pikes Peak and Colorad
 o
WEBSITE:http://www.jackquinnsrunners.com
URL:http://www.jackquinnsrunners.com
CONTACT:
ORGANIZER;CN="Brian McCarrie":http://pikespeaksports.us/profile/virtua
 lbrian
ATTACH;FMTTYPE="image/jpeg":http://storage.ning.com/topology/rest/1.0/
 file/get/2842523364?profile=original
ATTENDEE;ROLE=REQ-PARTICIPANT;PARTSTAT=ACCEPTED;RSVP=TRUE;CN="Brian Mc
 Carrie":http://pikespeaksports.us/profile/virtualbrian
END:VEVENT
END:VCALENDAR
