BEGIN:VCALENDAR
PRODID:NingEventWidget-v1
VERSION:2.0
METHOD:PUBLISH
BEGIN:VEVENT
UID:5021591:Event:5134
DTSTAMP:20260421T224133Z
SUMMARY:Jack Quinn's Running Club
DESCRIPTION:If you like to run, you should check out The Jack Quinn's 
 Running Club at 6 p.m. each Tuesday at Jack Quinn's. If you like to ru
 n AND drink cold beer AND hang out with about 900 cool people, then th
 is event is a \"must-do.\"\n\nFor more information visit http://pikesp
 eaksports.us/events/jack-quinns-running-club-9
DTSTART:20100519T000000Z
DTEND:20100519T020000Z
CATEGORIES:5k, social, "ru/walk"
LOCATION:Jack Quinn's
WEBSITE:http://www.jackquinnsrunners.com/index.php
URL:http://www.jackquinnsrunners.com/index.php
CONTACT:
ORGANIZER;CN="Pikes Peak Sports":http://pikespeaksports.us/profile/Pik
 esPeakSports
ATTACH;FMTTYPE="image/jpeg":http://storage.ning.com/topology/rest/1.0/
 file/get/2842531390?profile=original
ATTENDEE;ROLE=REQ-PARTICIPANT;PARTSTAT=ACCEPTED;RSVP=TRUE;CN="Pikes Pe
 ak Sports":http://pikespeaksports.us/profile/PikesPeakSports
END:VEVENT
END:VCALENDAR
