BEGIN:VCALENDAR
PRODID:NingEventWidget-v1
VERSION:2.0
METHOD:PUBLISH
BEGIN:VEVENT
UID:5021591:Event:4701
DTSTAMP:20260421T163558Z
SUMMARY:Jack Quinn's Running Club
DESCRIPTION:Don't forget the Jack Quinn's Running Club run. It all beg
 ins with a 5K run at 6 p.m., followed by free food, some cold beer and
  good times at Quinn's.\n\nFor more information visit http://pikespeak
 sports.us/events/jack-quinns-running-club-8
DTSTART:20100512T000000Z
DTEND:20100512T020000Z
CATEGORIES:social, run
LOCATION:Jack Quinn's, 21 S. Tejon
WEBSITE:http://www.jackquinnsrunners.com/index.php
URL:http://www.jackquinnsrunners.com/index.php
CONTACT:
ORGANIZER;CN="Pikes Peak Sports":http://pikespeaksports.us/profile/Pik
 esPeakSports
ATTACH;FMTTYPE="image/jpeg":http://storage.ning.com/topology/rest/1.0/
 file/get/2842531390?profile=original
ATTENDEE;ROLE=REQ-PARTICIPANT;PARTSTAT=ACCEPTED;RSVP=TRUE;CN="Pikes Pe
 ak Sports":http://pikespeaksports.us/profile/PikesPeakSports
END:VEVENT
END:VCALENDAR
