BEGIN:VCALENDAR
PRODID:NingEventWidget-v1
VERSION:2.0
METHOD:PUBLISH
BEGIN:VEVENT
UID:5021591:Event:3533
DTSTAMP:20260421T163557Z
SUMMARY:Jack Quinn's running club
DESCRIPTION:Join us at Jack Quinn's for our Tuesday Night runs!\n5k Ru
 n / Walk / Trot / Stagger / Crawl\n\nEvery Tuesday @ 6:00PM and 6:15PM
 \n\nFree Appetizer Buffet every Tuesday!\nFree Running Club T-shirt on
  your 10th Attendance!\nHappy Hour Odell Pints!\nand Family Friendly!\
 n(children and strollers welcome on course and in bar)\n\nFor more inf
 ormation visit http://pikespeaksports.us/events/jack-quinns-running-cl
 ub-7
DTSTART:20100427T233000Z
DTEND:20100428T010000Z
CATEGORIES:group, run
LOCATION:Jack Quinn's pub
WEBSITE:http://www.jackquinnsrunners.com
URL:http://www.jackquinnsrunners.com
CONTACT:
ORGANIZER:
ATTACH;FMTTYPE="image/jpeg":http://storage.ning.com/topology/rest/1.0/
 file/get/2842523830?profile=original
ATTENDEE;ROLE=REQ-PARTICIPANT;PARTSTAT=ACCEPTED;RSVP=TRUE;CN="Brian Mc
 Carrie":http://pikespeaksports.us/profile/virtualbrian
END:VEVENT
END:VCALENDAR
