BEGIN:VCALENDAR
PRODID:NingEventWidget-v1
VERSION:2.0
METHOD:PUBLISH
BEGIN:VEVENT
UID:5021591:Event:3234
DTSTAMP:20260422T002136Z
SUMMARY:Jack Quinn's Running Club
DESCRIPTION:Join the Jack Quinn's running club for their weekly group 
 run.\n\nFor more information visit http://pikespeaksports.us/events/ja
 ck-quinns-running-club-6
DTSTART:20100420T233000Z
DTEND:20100421T010000Z
CATEGORIES:training, run
LOCATION:Jack Quinn's Pub
WEBSITE:http://www.jackquinnsrunners.com/index.php
URL:http://www.jackquinnsrunners.com/index.php
CONTACT:
ORGANIZER:
ATTACH;FMTTYPE="image/jpeg":http://storage.ning.com/topology/rest/1.0/
 file/get/2842523830?profile=original
ATTENDEE;ROLE=REQ-PARTICIPANT;PARTSTAT=ACCEPTED;RSVP=TRUE;CN="Brian Mc
 Carrie":http://pikespeaksports.us/profile/virtualbrian
END:VEVENT
END:VCALENDAR
